BEGIN:VCALENDAR
PRODID:-//PUBBLE//agenda//NL
VERSION:2.0
METHOD:PUBLISH
BEGIN:VEVENT
DTSTART:20250524T080000Z
DTEND:20250524T100000Z
DTSTAMP:20260423T163240Z
UID:d7dbf146-82ff-40f8-9568-9eb7d5acfc0f
CREATED:20260423T163240Z
NAME:Feestelijke BoekStartdag in de bibliotheek Rhenen: voorlezen en muziek op schoot derijnpost.nl
X-WR-CALNAME:Feestelijke BoekStartdag in de bibliotheek Rhenen: voorlezen en muziek op schoot
X-ALT-DESC;FMTTYPE=text/html:<a href='/agenda/2025/5/24/feestelijke-boekstartdag-in-de-bibliotheek-rhenen-voorlezen-en-muziek-op-schoot-1166888'>/agenda/2025/5/24/feestelijke-boekstartdag-in-de-bibliotheek-rhenen-voorlezen-en-muziek-op-schoot-1166888</a> || <p>Op zaterdag 24 mei is het BoekStartdag in de bibliotheek. Op die feestelijke dag krijgen de allerjongste bezoekers en hun (groot)ouders een extra hartelijk welkom. Er zĳn in verschillende vestigingen van de Bibliotheek Z-O-U-T leuke activiteiten om te ontdekken hoe fijn het is om samen met boekjes en taal bezig te zĳn.</p><p><strong><br></strong></p><p><strong>Programma Rhenen</strong></p><p>De BoekStartdag is op zaterdag 24 mei van 10.00 tot 12.00 uur in de bibliotheek in Rhenen. Er wordt natuurlijk voorgelezen, en om 10.30 uur en 11.15 uur is er muziek op schoot voor ouder en kind (2+). De jeugdverpleegkundige van het consultatiebureau (Mirjam Blankestijn-van der Weerd) is aanwezig om al je vragen te beantwoorden. Ook is er een leuke kleurplaat, een berenmasker en een BoekStartdag-quiz voor kinderen tot 4 jaar. Aanmelden is niet nodig en deelname is gratis.</p><p>Ook in de bibliotheek in Renswoude wordt er voorgelezen. Bovendien kun je daar om 10.30 en 11.15 uur meedoen aan yoga voor ouder en kind (2+). Het volledige programma is te vinden op de website van de Bibliotheek Z-O-U-T.</p><p><strong>Gloednieuw BoekStart-koffertje bij gratis abonnement</strong></p><p>Natuurlijk zijn ouders ook van harte welkom om hun kind gratis lid te komen maken van de Bibliotheek. Voor alle kinderen tot 18 jaar is een abonnement gratis. Vanaf 23 mei krijgen alle nieuwe leden tot 2 jaar bovendien het vernieuwde BoekStartkoffertje cadeau. Dit leuke koffertje bevat materialen waarmee baby’s spelenderwijs het plezier van lezen ontdekken.</p><p>Het nieuwe BoekStart-koffertje is speelser vormgegeven en duurzamer geproduceerd dan het oude bekende oranje koffertje. Wat blijft is dat het koffertje heel leuk is voor de jongste bibliotheekleden: het bevat een vrolijke boekenlegger, een handige folder en twee gratis boekjes. Het nieuwe koffertje is meer dan alleen een koffertje: binnenin biedt de kikker aan de waterkant de baby’s, dreumesen of jonge peuters veel kijkplezier en allerlei mogelijkheden tot samen praten, zingen en spelen.</p><p>Met een QR-code kunnen ouders direct naar een pagina van BoekStart met Boekideeën bij de gratis boekjes voor hun kleintjes. De Boekideeën bevatten handige en leuke voorleestips om samen met de baby te ‘speellezen’. Onderzoek toont aan dat baby’s die al op jonge leeftijd in aanraking komen met boeken een grotere woordenschat ontwikkelen en later beter presteren op school.</p>
DESCRIPTION:<a href='/agenda/2025/5/24/feestelijke-boekstartdag-in-de-bibliotheek-rhenen-voorlezen-en-muziek-op-schoot-1166888'>/agenda/2025/5/24/feestelijke-boekstartdag-in-de-bibliotheek-rhenen-voorlezen-en-muziek-op-schoot-1166888</a> || <p>Op zaterdag 24 mei is het BoekStartdag in de bibliotheek. Op die feestelijke dag krijgen de allerjongste bezoekers en hun (groot)ouders een extra hartelijk welkom. Er zĳn in verschillende vestigingen van de Bibliotheek Z-O-U-T leuke activiteiten om te ontdekken hoe fijn het is om samen met boekjes en taal bezig te zĳn.</p><p><strong><br></strong></p><p><strong>Programma Rhenen</strong></p><p>De BoekStartdag is op zaterdag 24 mei van 10.00 tot 12.00 uur in de bibliotheek in Rhenen. Er wordt natuurlijk voorgelezen, en om 10.30 uur en 11.15 uur is er muziek op schoot voor ouder en kind (2+). De jeugdverpleegkundige van het consultatiebureau (Mirjam Blankestijn-van der Weerd) is aanwezig om al je vragen te beantwoorden. Ook is er een leuke kleurplaat, een berenmasker en een BoekStartdag-quiz voor kinderen tot 4 jaar. Aanmelden is niet nodig en deelname is gratis.</p><p>Ook in de bibliotheek in Renswoude wordt er voorgelezen. Bovendien kun je daar om 10.30 en 11.15 uur meedoen aan yoga voor ouder en kind (2+). Het volledige programma is te vinden op de website van de Bibliotheek Z-O-U-T.</p><p><strong>Gloednieuw BoekStart-koffertje bij gratis abonnement</strong></p><p>Natuurlijk zijn ouders ook van harte welkom om hun kind gratis lid te komen maken van de Bibliotheek. Voor alle kinderen tot 18 jaar is een abonnement gratis. Vanaf 23 mei krijgen alle nieuwe leden tot 2 jaar bovendien het vernieuwde BoekStartkoffertje cadeau. Dit leuke koffertje bevat materialen waarmee baby’s spelenderwijs het plezier van lezen ontdekken.</p><p>Het nieuwe BoekStart-koffertje is speelser vormgegeven en duurzamer geproduceerd dan het oude bekende oranje koffertje. Wat blijft is dat het koffertje heel leuk is voor de jongste bibliotheekleden: het bevat een vrolijke boekenlegger, een handige folder en twee gratis boekjes. Het nieuwe koffertje is meer dan alleen een koffertje: binnenin biedt de kikker aan de waterkant de baby’s, dreumesen of jonge peuters veel kijkplezier en allerlei mogelijkheden tot samen praten, zingen en spelen.</p><p>Met een QR-code kunnen ouders direct naar een pagina van BoekStart met Boekideeën bij de gratis boekjes voor hun kleintjes. De Boekideeën bevatten handige en leuke voorleestips om samen met de baby te ‘speellezen’. Onderzoek toont aan dat baby’s die al op jonge leeftijd in aanraking komen met boeken een grotere woordenschat ontwikkelen en later beter presteren op school.</p>
LAST-MODIFIED:20260423T163240Z
LOCATION: Bibliotheek Rhenen | Nieuwe Veenendaalseweg 75 Rhenen
SEQUENCE:0
STATUS:CONFIRMED
SUMMARY:Feestelijke BoekStartdag in de bibliotheek Rhenen: voorlezen en muziek op schoot
TRANSP:OPAQUE
END:VEVENT
END:VCALENDAR
