BEGIN:VCALENDAR
PRODID:-//PUBBLE//agenda//NL
VERSION:2.0
METHOD:PUBLISH
BEGIN:VEVENT
DTSTART:20241024T180000Z
DTEND:20241024T203000Z
DTSTAMP:20260423T144523Z
UID:ac629bb1-83f7-444e-aac3-22123e31c456
CREATED:20260423T144523Z
NAME:“Eddepet” van de televisieserie Vrienden voor het leven in Theater Lampegiet derijnpost.nl
X-WR-CALNAME:“Eddepet” van de televisieserie Vrienden voor het leven in Theater Lampegiet
X-ALT-DESC;FMTTYPE=text/html:<a href='/agenda/2024/10/24/-eddepet-van-de-televisieserie-vrienden-voor-het-leven-in-theater-lampegiet-1083479'>/agenda/2024/10/24/-eddepet-van-de-televisieserie-vrienden-voor-het-leven-in-theater-lampegiet-1083479</a> || <p><strong>Het is inmiddels ruim dertig jaar geleden dat Peter Lusse de rol van Eddie voor het laatst speelde in de televisie hitserie <em>Vrienden voor het leven</em>. Toch speelt de nineties show nog altijd een belangrijke rol in zijn bestaan. In de cabaretvoorstelling <em>Eddie voor het leven</em> vertelt Peter op donderdag 24 oktober het publiek van Theater Lampegiet over waar het allemaal begon en wat hij sindsdien heeft meegemaakt. </strong></p><p>Wie de tv aanzette in de vroege jaren van de nineties, kon er bijna niet omheen; de Nederlandse sitcom <em>Vrienden voor het leven.</em> De serie draaide om het samenwonende stel Eddie en Ellen en om wat zij allemaal beleefden met hun vrienden en familie. Vooral de moeder, die haar zoon steevast <em>Eddepet </em>noemde, springt gelijk in de herinnering bij de kijkers van toen. Eddie was een personage die bekend stond om zijn onhandigheden en bijzondere experimenten.</p><p>De rol van Eddie bleef Peter Lusse achtervolgen. Want ondanks dat de serie een groot succes was, is dat niet eeuwigdurend. Peter stond op het punt om op straat te belanden. Nog altijd wordt Peter met regelmaat herinnerd aan zijn personage uit de serie. Zelf dacht hij dat dat mettertijd wel over zou gaan, maar nog wekelijks spreekt iemand hem erop aan.&nbsp;</p><p>Peters cabaretvoorstelling <em>Eddie voor het leven</em> belicht de worsteling die hij heeft met het personage. Want ondanks dat Peter jarenlang heeft gevochten om vrij te komen van Eddie, “Eddepet” is in het collectief geheugen gegrift. Daarom omarmt Peter de naam nu en vertelt hij het publiek écht alles. Over hoe het allemaal begon en wat er gebeurde toen het eindigde. Hij geeft een uniek inkijkje in de achtergrond van de serie en over zijn huidige relatie met zijn alter ego.&nbsp;</p><p><em>Eddie voor het leven</em> wordt een avond vol humor óver humor, over voorspoed en over tegenwind. Met hier en daar een conférence én een goed geplaatst liedje. In de intieme setting van de foyer van Theater Lampegiet.</p>
DESCRIPTION:<a href='/agenda/2024/10/24/-eddepet-van-de-televisieserie-vrienden-voor-het-leven-in-theater-lampegiet-1083479'>/agenda/2024/10/24/-eddepet-van-de-televisieserie-vrienden-voor-het-leven-in-theater-lampegiet-1083479</a> || <p><strong>Het is inmiddels ruim dertig jaar geleden dat Peter Lusse de rol van Eddie voor het laatst speelde in de televisie hitserie <em>Vrienden voor het leven</em>. Toch speelt de nineties show nog altijd een belangrijke rol in zijn bestaan. In de cabaretvoorstelling <em>Eddie voor het leven</em> vertelt Peter op donderdag 24 oktober het publiek van Theater Lampegiet over waar het allemaal begon en wat hij sindsdien heeft meegemaakt. </strong></p><p>Wie de tv aanzette in de vroege jaren van de nineties, kon er bijna niet omheen; de Nederlandse sitcom <em>Vrienden voor het leven.</em> De serie draaide om het samenwonende stel Eddie en Ellen en om wat zij allemaal beleefden met hun vrienden en familie. Vooral de moeder, die haar zoon steevast <em>Eddepet </em>noemde, springt gelijk in de herinnering bij de kijkers van toen. Eddie was een personage die bekend stond om zijn onhandigheden en bijzondere experimenten.</p><p>De rol van Eddie bleef Peter Lusse achtervolgen. Want ondanks dat de serie een groot succes was, is dat niet eeuwigdurend. Peter stond op het punt om op straat te belanden. Nog altijd wordt Peter met regelmaat herinnerd aan zijn personage uit de serie. Zelf dacht hij dat dat mettertijd wel over zou gaan, maar nog wekelijks spreekt iemand hem erop aan.&nbsp;</p><p>Peters cabaretvoorstelling <em>Eddie voor het leven</em> belicht de worsteling die hij heeft met het personage. Want ondanks dat Peter jarenlang heeft gevochten om vrij te komen van Eddie, “Eddepet” is in het collectief geheugen gegrift. Daarom omarmt Peter de naam nu en vertelt hij het publiek écht alles. Over hoe het allemaal begon en wat er gebeurde toen het eindigde. Hij geeft een uniek inkijkje in de achtergrond van de serie en over zijn huidige relatie met zijn alter ego.&nbsp;</p><p><em>Eddie voor het leven</em> wordt een avond vol humor óver humor, over voorspoed en over tegenwind. Met hier en daar een conférence én een goed geplaatst liedje. In de intieme setting van de foyer van Theater Lampegiet.</p>
LAST-MODIFIED:20260423T144523Z
LOCATION: Theater Lampegiet | Kerkewijk 10 Veenendaal
SEQUENCE:0
STATUS:CONFIRMED
SUMMARY:“Eddepet” van de televisieserie Vrienden voor het leven in Theater Lampegiet
TRANSP:OPAQUE
END:VEVENT
END:VCALENDAR
